BEGIN:VCALENDAR
VERSION:2.0
PRODID:-//Roussillon - ECPv5.8.1//NONSGML v1.0//EN
CALSCALE:GREGORIAN
METHOD:PUBLISH
X-WR-CALNAME:Roussillon
X-ORIGINAL-URL:http://winesofroussillon.com
X-WR-CALDESC:Events for Roussillon
BEGIN:VTIMEZONE
TZID:Europe/Paris
BEGIN:DAYLIGHT
TZOFFSETFROM:+0100
TZOFFSETTO:+0200
TZNAME:CEST
DTSTART:20180325T010000
END:DAYLIGHT
BEGIN:STANDARD
TZOFFSETFROM:+0200
TZOFFSETTO:+0100
TZNAME:CET
DTSTART:20181028T010000
END:STANDARD
END:VTIMEZONE
BEGIN:VEVENT
DTSTART;TZID=Europe/Paris:20180907T103000
DTEND;TZID=Europe/Paris:20180907T111500
DTSTAMP:20260422T033455
CREATED:20180813T170218Z
LAST-MODIFIED:20180813T180905Z
UID:6445-1536316200-1536318900@winesofroussillon.com
SUMMARY:Exclusive Roussillon tasting at BevCon San Francisco
DESCRIPTION:Explore the Wines from Roussillon tasting:\n– Date and hours: Friday\, September 7th\, 10.30am to 11.15am\n– Venue: The W Hotel San Francisco – 181 3rd Street San Francisco CA 94103\n– BevCon schedule: http://www.fullcirclebevcon.com/schedule
URL:http://winesofroussillon.com/event/exclusive-roussillon-tasting-bevcon-san-francisco/
CATEGORIES:Trade
END:VEVENT
END:VCALENDAR